BEGIN:VCALENDAR
VERSION:2.0
PRODID:-//Half Moon Cay - ECPv6.15.20//NONSGML v1.0//EN
CALSCALE:GREGORIAN
METHOD:PUBLISH
X-ORIGINAL-URL:https://www.halfmooncayport.com
X-WR-CALDESC:Events for Half Moon Cay
REFRESH-INTERVAL;VALUE=DURATION:PT1H
X-Robots-Tag:noindex
X-PUBLISHED-TTL:PT1H
BEGIN:VTIMEZONE
TZID:UTC
BEGIN:STANDARD
TZOFFSETFROM:+0000
TZOFFSETTO:+0000
TZNAME:UTC
DTSTART:20240101T000000
END:STANDARD
END:VTIMEZONE
BEGIN:VEVENT
DTSTART;TZID=UTC:20251219T080000
DTEND;TZID=UTC:20260220T170000
DTSTAMP:20260423T141324
CREATED:20251219T195224Z
LAST-MODIFIED:20260127T144340Z
UID:10000001-1766131200-1771606800@www.halfmooncayport.com
SUMMARY:Request for Proposal (RFP) for Straw and Artisan Market
DESCRIPTION:🧺 RELAXAWAY HALF MOON CAY – STRAW & ARTISAN MARKET RFP NOW OPEN! 🌴\nWe’re inviting Bahamian artisans and straw vendors to be part of an exciting new chapter at RelaxAway Half Moon Cay\, located on Little San Salvador Island\, The Bahamas. The Market will be located in the northwest side of the island’s New Development\, featuring a new pier capable of accommodating up to two ships; therefore\, increasing the desire for expanded retail offerings. This RFP seeks creative\, authentic vendors to showcase Bahamian craftsmanship\, culture\, and style within our newly developed Straw & Artisan Market. ✨ \nIf your work reflects the spirit\, artistry\, and heritage of The Bahamas—this is your opportunity to shine. \n📄 Complete the Questionnaire linked here: Straw & Artisan Market RFP\n📧 Submit to: eclaxton@carnival.com and destinationconcessions@carnival.com\n📅 Question Deadline: February 11\, 2026\n📅 Request for Proposal Deadline: February 20\, 2026 \nLet’s bring authentic Bahamian craftsmanship to life at RelaxAway Half Moon Cay! 🌊🎨
URL:https://www.halfmooncayport.com/event/rfp-for-straw-and-artisan-market/
CATEGORIES:RFP
ATTACH;FMTTYPE=image/png:https://www.halfmooncayport.com/wp-content/uploads/2025/12/HMC-RFP-Straw-Artisan-Market-Header.png
END:VEVENT
END:VCALENDAR